Workbook

Sheet Data
A1: Person | B1: Age | C1: Gender | D1: State | E1: Children | F1: Salary | G1: Opinion
A2: 1 | B2: Middle-aged | C2: 2 | D2: Texas | E2: 2 | F2: 63017 | G2: Strongly agree
A3: 2 | B3: Middle-aged | C3: 2 | D3: Virginia | E3: 3 | F3: 100302 | G3: Strongly disagree
A4: 3 | B4: Middle-aged | C4: 2 | D4: California | E4: 0 | F4: 144043 | G4: Strongly agree
A5: 4 | B5: Young | C5: 2 | D5: California | E5: 0 | F5: 36025 | G5: Agree
A6: 5 | B6: Middle-aged | C6: 1 | D6: Texas | E6: 0 | F6: 97543 | G6: Neutral
A7: 6 | B7: Middle-aged | C7: 1 | D7: California | E7: 3 | F7: 69222 | G7: Disagree
A8: 7 | B8: Middle-aged | C8: 2 | D8: Michigan | E8: 2 | F8: 81799 | G8: Disagree
A9: 8 | B9: Middle-aged | C9: 2 | D9: Texas | E9: 1 | F9: 101894 | G9: Agree
A10: 9 | B10: Middle-aged | C10: 1 | D10: Virginia | E10: 0 | F10: 83843 | G10: Strongly disagree
A11: 10 | B11: Middle-aged | C11: 1 | D11: Illinois | E11: 3 | F11: 87457 | G11: Agree
A12: 11 | B12: Elderly | C12: 2 | D12: Arizona | E12: 0 | F12: 48966 | G12: Disagree
A13: 12 | B13: Middle-aged | C13: 2 | D13: Arizona | E13: 1 | F13: 88855 | G13: Disagree
... A400: 399 | B400: Middle-aged | C400: 2 | D400: Illinois | E400: 2 | F400: 76933 | G400: Strongly agree

Sheet Sheet1
A1: a) Name categorical variables (8 points)
A2: The categorical variables in the data includes
A3: 1. Age
A4: 2. State
A5: 3. Opinion
A6: Name nominal: (2 points)
A7: The following are nominal variables
A8: 1. Opinion
A9: 2. State
A10: Name ordinal: (2 points)
A11: The following are the ordinal variables
A12: 1. Person
... A16: b) Column Chart (Note: you do not get credit if you only provide the frequency distribution table) (16 points)
A18: Opinion recording | B18: Frequency
A19: Agree | B19: 82
A20: Disagree | B20: 85
A21: Neutral | B21: 68
A22: Strongly agree | B22: 86
A23: Strongly disagree | B23: 78
A24: Grand Total | B24: 399
A31: Age | B31: Frequency
A32: Elderly | B32: 94
A33: Middle-aged | B33: 218
A34: Young | B34: 87
A35: Grand Total | B35: 399
A42: State | B42: Frequency
A43: Arizona | B43: 33
A44: California | B44: 33
A45: Florida | B45: 41
A46: Illinois | B46: 38
A47: Michigan | B47: 46
A48: Minnesota | B48: 31
A49: New York | B49: 46
A50: Ohio | B50: 44
A51: Texas | B51: 48
A52: Virginia | B52: 39
A53: Grand Total | B53: 399
A57: c. | B57: Person | C57: Age | D57: Gender | E57: State | F57: Children | G57: Salary | H57: Opinion
B58: 1 | C58: Middle-aged | D58: =IF(Data!C2=1, "Male","Female") -> Female | E58: Texas | F58: =IF(Data!E2=0, "No Children","At least one Child") -> At least one Child | G58: Between 70k and 100k | H58: =LOOKUP(Data!G2,{"Agree","Disagree","Neutral","Strongly Agree","Strongly Disagree"},{4,2,3,5,1}) -> 5
B59: 2 | C59: Middle-aged | D59: =IF(Data!C3=1, "Male","Female") -> Female | E59: Virginia | F59: =IF(Data!E3=0, "No Children","At least one Child") -> At least one Child | G59: Greater than 100k | H59: =LOOKUP(Data!G3,{"Agree","Disagree","Neutral","Strongly Agree","Strongly Disagree"},{4,2,3,5,1}) -> 1
B60: 3 | C60: Middle-aged | D60: =IF(Data!C4=1, "Male","Female") -> Female | E60: California | F60: =IF(Data!E4=0, "No Children","At least one Child") -> No Children | G60: Greater than 100k | H60: =LOOKUP(Data!G4,{"Agree","Disagree","Neutral","Strongly Agree","Strongly Disagree"},{4,2,3,5,1}) -> 5
B61: 4 | C61: Young | D61: =IF(Data!C5=1, "Male","Female") -> Female | E61: California | F61: =IF(Data!E5=0, "No Children","At least one Child") -> No Children | G61: Less tha 40k | H61: =LOOKUP(Data!G5,{"Agree","Disagree","Neutral","Strongly Agree","Strongly Disagree"},{4,2,3,5,1}) -> 4
B62: 5 | C62: Middle-aged | D62: =IF(Data!C6=1, "Male","Female") -> Male | E62: Texas | F62: =IF(Data!E6=0, "No Children","At least one Child") -> No Children | G62: Between 70k and 100k | H62: =LOOKUP(Data!G6,{"Agree","Disagree","Neutral","Strongly Agree","Strongly Disagree"},{4,2,3,5,1}) -> 3
B63: 6 | C63: Middle-aged | D63: =IF(Data!C7=1, "Male","Female") -> Male | E63: California | F63: =IF(Data!E7=0, "No Children","At least one Child") -> At least one Child | G63: Between 40k and &70k | H63: =LOOKUP(Data!G7,{"Agree","Disagree","Neutral","Strongly Agree","Strongly Disagree"},{4,2,3,5,1}) -> 2
B64: 7 | C64: Middle-aged | D64: =IF(Data!C8=1, "Male","Female") -> Female | E64: Michigan | F64: =IF(Data!E8=0, "No Children","At least one Child") -> At least one Child | G64: Between 70k and 100k | H64: =LOOKUP(Data!G8,{"Agree","Disagree","Neutral","Strongly Agree","Strongly Disagree"},{4,2,3,5,1}) -> 2
B65: 8 | C65: Middle-aged | D65: =IF(Data!C9=1, "Male","Female") -> Female | E65: Texas | F65: =IF(Data!E9=0, "No Children","At least one Child") -> At least one Child | G65: Greater than 100k | H65: =LOOKUP(Data!G9,{"Agree","Disagree","Neutral","Strongly Agree","Strongly Disagree"},{4,2,3,5,1}) -> 4
B66: 9 | C66: Middle-aged | D66: =IF(Data!C10=1, "Male","Female") -> Male | E66: Virginia | F66: =IF(Data!E10=0, "No Children","At least one Child") -> No Children | G66: Between 70k and 100k | H66: =LOOKUP(Data!G10,{"Agree","Disagree","Neutral","Strongly Agree","Strongly Disagree"},{4,2,3,5,1}) -> 1
B67: 10 | C67: Middle-aged | D67: =IF(Data!C11=1, "Male","Female") -> Male | E67: Illinois | F67: =IF(Data!E11=0, "No Children","At least one Child") -> At least one Child | G67: Between 70k and 100k | H67: =LOOKUP(Data!G11,{"Agree","Disagree","Neutral","Strongly Agree","Strongly Disagree"},{4,2,3,5,1}) -> 4
B68: 11 | C68: Elderly | D68: =IF(Data!C12=1, "Male","Female") -> Female | E68: Arizona | F68: =IF(Data!E12=0, "No Children","At least one Child") -> No Children | G68: Between 40k and &70k | H68: =LOOKUP(Data!G12,{"Agree","Disagree","Neutral","Strongly Agree","Strongly Disagree"},{4,2,3,5,1}) -> 2
B69: 12 | C69: Middle-aged | D69: =IF(Data!C13=1, "Male","Female") -> Female | E69: Arizona | F69: =IF(Data!E13=0, "No Children","At least one Child") -> At least one Child | G69: Between 70k and 100k | H69: =LOOKUP(Data!G13,{"Agree","Disagree","Neutral","Strongly Agree","Strongly Disagree"},{4,2,3,5,1}) -> 2
... B87: 30 | C87: Middle-aged | D87: =IF(Data!C31=1, "Male","Female") -> Male | E87: New York | F87: =IF(Data!E31=0, "No Children","At least one Child") -> No Children | G87: Between 70k and 100k | H87: =LOOKUP(Data!G31,{"Agree","Disagree","Neutral","Strongly Agree","Strongly Disagree"},{4,2,3,5,1}) -> 5
B88: 31 | C88: Middle-aged | D88: =IF(Data!C32=1, "Male","Female") -> Female | E88: Texas | F88: =IF(Data!E32=0, "No Children","At least one Child") -> At least one Child | G88: Between 70k and 100k | H88: =LOOKUP(Data!G32,{"Agree","Disagree","Neutral","Strongly Agree","Strongly Disagree"},{4,2,3,5,1}) -> 1 | J88: =IF(F88=0,"No Children","Atleast one child") -> Atleast one child
B89: 32 | C89: Young | D89: =IF(Data!C33=1, "Male","Female") -> Female | E89: Virginia | F89: =IF(Data!E33=0, "No Children","At least one Child") -> At least one Child | G89: Between 40k and &70k | H89: =LOOKUP(Data!G33,{"Agree","Disagree","Neutral","Strongly Agree","Strongly Disagree"},{4,2,3,5,1}) -> 1
B90: 33 | C90: Young | D90: =IF(Data!C34=1, "Male","Female") -> Male | E90: California | F90: =IF(Data!E34=0, "No Children","At least one Child") -> At least one Child | G90: Between 40k and &70k | H90: =LOOKUP(Data!G34,{"Agree","Disagree","Neutral","Strongly Agree","Strongly Disagree"},{4,2,3,5,1}) -> 1
B91: 34 | C91: Elderly | D91: =IF(Data!C35=1, "Male","Female") -> Female | E91: Arizona | F91: =IF(Data!E35=0, "No Children","At least one Child") -> No Children | G91: Between 70k and 100k | H91: =LOOKUP(Data!G35,{"Agree","Disagree","Neutral","Strongly Agree","Strongly Disagree"},{4,2,3,5,1}) -> 4
B92: 35 | C92: Elderly | D92: =IF(Data!C36=1, "Male","Female") -> Female | E92: Michigan | F92: =IF(Data!E36=0, "No Children","At least one Child") -> At least one Child | G92: Between 40k and &70k | H92: =LOOKUP(Data!G36,{"Agree","Disagree","Neutral","Strongly Agree","Strongly Disagree"},{4,2,3,5,1}) -> 4
B93: 36 | C93: Young | D93: =IF(Data!C37=1, "Male","Female") -> Female | E93: Arizona | F93: =IF(Data!E37=0, "No Children","At least one Child") -> At least one Child | G93: Less tha 40k | H93: =LOOKUP(Data!G37,{"Agree","Disagree","Neutral","Strongly Agree","Strongly Disagree"},{4,2,3,5,1}) -> 1
B94: 37 | C94: Middle-aged | D94: =IF(Data!C38=1, "Male","Female") -> Female | E94: Virginia | F94: =IF(Data!E38=0, "No Children","At least one Child") -> No Children | G94: Greater than 100k | H94: =LOOKUP(Data!G38,{"Agree","Disagree","Neutral","Strongly Agree","Strongly Disagree"},{4,2,3,5,1}) -> 5
B95: 38 | C95: Middle-aged | D95: =IF(Data!C39=1, "Male","Female") -> Male | E95: Arizona | F95: =IF(Data!E39=0, "No Children","At least one Child") -> No Children | G95: Between 70k and 100k | H95: =LOOKUP(Data!G39,{"Agree","Disagree","Neutral","Strongly Agree","Strongly Disagree"},{4,2,3,5,1}) -> 5
B96: 39 | C96: Middle-aged | D96: =IF(Data!C40=1, "Male","Female") -> Male | E96: Virginia | F96: =IF(Data!E40=0, "No Children","At least one Child") -> No Children | G96: Between 70k and 100k | H96: =LOOKUP(Data!G40,{"Agree","Disagree","Neutral","Strongly Agree","Strongly Disagree"},{4,2,3,5,1}) -> 4
B97: 40 | C97: Young | D97: =IF(Data!C41=1, "Male","Female") -> Female | E97: Virginia | F97: =IF(Data!E41=0, "No Children","At least one Child") -> At least one Child | G97: Between 40k and &70k | H97: =LOOKUP(Data!G41,{"Agree","Disagree","Neutral","Strongly Agree","Strongly Disagree"},{4,2,3,5,1}) -> 2
B98: 41 | C98: Middle-aged | D98: =IF(Data!C42=1, "Male","Female") -> Female | E98: Florida | F98: =IF(Data!E42=0, "No Children","At least one Child") -> At least one Child | G98: Between 70k and 100k | H98: =LOOKUP(Data!G42,{"Agree","Disagree","Neutral","Strongly Agree","Strongly Disagree"},{4,2,3,5,1}) -> 3
B99: 42 | C99: Middle-aged | D99: =IF(Data!C43=1, "Male","Female") -> Male | E99: Ohio | F99: =IF(Data!E43=0, "No Children","At least one Child") -> No Children | G99: Greater than 100k | H99: =LOOKUP(Data!G43,{"Agree","Disagree","Neutral","Strongly Agree","Strongly Disagree"},{4,2,3,5,1}) -> 1
B100: 43 | C100: Middle-aged | D100: =IF(Data!C44=1, "Male","Female") -> Male | E100: Arizona | F100: =IF(Data!E44=0, "No Children","At least one Child") -> At least one Child | G100: Between 70k and 100k | H100: =LOOKUP(Data!G44,{"Agree","Disagree","Neutral","Strongly Agree","Strongly Disagree"},{4,2,3,5,1}) -> 1
... B456: 399 | C456: Middle-aged | D456: =IF(Data!C400=1, "Male","Female") -> Female | E456: Illinois | F456: =IF(Data!E400=0, "No Children","At least one Child") -> At least one Child | G456: Between 70k and 100k | H456: =LOOKUP(Data!G400,{"Agree","Disagree","Neutral","Strongly Agree","Strongly Disagree"},{4,2,3,5,1}) -> 5
B460: Salary | C460: frequency
B461: Between 40k and &70k | C461: 119
B462: Between 70k and 100k | C462: 169
B463: Greater than 100k | C463: 85
B464: Less tha 40k | C464: 26
B465: Grand Total | C465: 399
