Workbook

Sheet Data
A1: Person | B1: Age | C1: Gender | D1: State | E1: Children | F1: Salary | G1: Opinion
A2: 1 | B2: Middle-aged | C2: 2 | D2: Texas | E2: 2 | F2: 63017 | G2: Strongly agree
A3: 2 | B3: Middle-aged | C3: 2 | D3: Virginia | E3: 3 | F3: 100302 | G3: Strongly disagree
A4: 3 | B4: Middle-aged | C4: 2 | D4: California | E4: 0 | F4: 144043 | G4: Strongly agree
A5: 4 | B5: Young | C5: 2 | D5: California | E5: 0 | F5: 36025 | G5: Agree
A6: 5 | B6: Middle-aged | C6: 1 | D6: Texas | E6: 0 | F6: 97543 | G6: Neutral
A7: 6 | B7: Middle-aged | C7: 1 | D7: California | E7: 3 | F7: 69222 | G7: Disagree
A8: 7 | B8: Middle-aged | C8: 2 | D8: Michigan | E8: 2 | F8: 81799 | G8: Disagree
A9: 8 | B9: Middle-aged | C9: 2 | D9: Texas | E9: 1 | F9: 101894 | G9: Agree
A10: 9 | B10: Middle-aged | C10: 1 | D10: Virginia | E10: 0 | F10: 83843 | G10: Strongly disagree
A11: 10 | B11: Middle-aged | C11: 1 | D11: Illinois | E11: 3 | F11: 87457 | G11: Agree
A12: 11 | B12: Elderly | C12: 2 | D12: Arizona | E12: 0 | F12: 48966 | G12: Disagree
A13: 12 | B13: Middle-aged | C13: 2 | D13: Arizona | E13: 1 | F13: 88855 | G13: Disagree
... A400: 399 | B400: Middle-aged | C400: 2 | D400: Illinois | E400: 2 | F400: 76933 | G400: Strongly agree

Sheet Sheet1
A1: a) Name categorical variables (8 points)
A2: The categorical variables in the data includes
A3: 1. Age
A4: 2. State
A5: 3. Opinion
A6: Name nominal: (2 points)
A7: The following are nominal variables
A8: 1. Opinion
A9: 2. State
A10: Name ordinal: (2 points)
A11: The following are the ordinal variables
A12: 1. Person
... A16: b) Column Chart (Note: you do not get credit if you only provide the frequency distribution table) (16 points)
A18: Opinion recording | B18: Frequency
A19: Agree | B19: 82
A20: Disagree | B20: 85
A21: Neutral | B21: 68
A22: Strongly agree | B22: 86
A23: Strongly disagree | B23: 78
A24: Grand Total | B24: 399
A31: Age | B31: Frequency
A32: Elderly | B32: 94
A33: Middle-aged | B33: 218
A34: Young | B34: 87
A35: Grand Total | B35: 399
A42: State | B42: Frequency
A43: Arizona | B43: 33
A44: California | B44: 33
A45: Florida | B45: 41
A46: Illinois | B46: 38
A47: Michigan | B47: 46
A48: Minnesota | B48: 31
A49: New York | B49: 46
A50: Ohio | B50: 44
A51: Texas | B51: 48
A52: Virginia | B52: 39
A53: Grand Total | B53: 399
A57: c. | B57: Person | C57: Age | D57: Gender | E57: State | F57: Children | G57: Salary | H57: Opinion
B58: 1 | C58: Middle-aged | D58: =IF(Data!C2=1, "Male","Female") -> Female | E58: Texas | F58: =IF(Data!E2=0, "No Children","At least one Child") -> At least one Child | G58: Between 70k and 100k | H58: =LOOKUP(Data!G2,{"Agree","Disagree","Neutral","Strongly Agree","Strongly Disagree"},{4,2,3,5,1}) -> 5
B59: 2 | C59: Middle-aged | D59: =IF(Data!C3=1, "Male","Female") -> Female | E59: Virginia | F59: =IF(Data!E3=0, "No Children","At least one Child") -> At least one Child | G59: Greater than 100k | H59: =LOOKUP(Data!G3,{"Agree","Disagree","Neutral","Strongly Agree","Strongly Disagree"},{4,2,3,5,1}) -> 1
...
